BEGIN:VCALENDAR
VERSION:2.0
PRODID:-//wp-events-plugin.com//7.2.3.1//EN
BEGIN:VEVENT
UID:20@farumlokalhistoriskeforening.dk
DTSTART:20190307T190000Z
DTEND:20190307T213000Z
DTSTAMP:20181113T204001Z
URL:https://farumlokalhistoriskeforening.dk/arrangement/ordinaer-generalfo
 rsamling-2/
SUMMARY:Ordinær generalforsamling
DESCRIPTION:Dagsorden\n\n1. Valg af dirigent\n2. Bestyrelsens beretning\n3.
  Fremlæggelse af revideret regnskab\n4. Indkomne forslag\n5. Arbejdsplan\
 n6. Budget og fastlæggelse af kontingent\n7. Valg: Formand\nØvrige besty
 relsesmedlemmer + suppleant\nRevisorer.\n8. Evt.\n\nForslag til punkt 4 sk
 al være bestyrelsen i hænde senest en uge før generalforsamlingen.\n\nD
 er vil blive serveret et let traktement.\n\nEfter generalforsamlingen vil 
 Henning Nielsen underholde med: "Fortællinger fra min mor Kirsten Nielsen
 s barndom og ungdom på gartneriet Elmevang i Bregnerød" .
ATTACH;FMTTYPE=image/jpeg:https://farumlokalhistoriskeforening.dk/wp-conte
 nt/uploads/2018/01/generalforsamling.jpg
LOCATION:Gedevasevang\, Hestetangsvej 30A\, Farum\, 3520\, Denmark
GEO:55.80957799999999;12.350584000000026
X-APPLE-STRUCTURED-LOCATION;VALUE=URI;X-ADDRESS=Hestetangsvej 30A\, Farum\,
  3520\, Denmark;X-APPLE-RADIUS=100;X-TITLE=Gedevasevang:geo:55.80957799999
 999,12.350584000000026
END:VEVENT
END:VCALENDAR