BEGIN:VCALENDAR
VERSION:2.0
PRODID:-//wp-events-plugin.com//7.2.3.1//EN
BEGIN:VEVENT
UID:78@farumlokalhistoriskeforening.dk
DTSTART:20241106T190000Z
DTEND:20241106T220000Z
DTSTAMP:20240609T192608Z
URL:https://farumlokalhistoriskeforening.dk/arrangement/farum-midtpunkt-50
 -aar-en-del-af-vores-historie/
SUMMARY:Farum Midtpunkt 50 år – ”En del af ”Vores historie”
DESCRIPTION:Denne aften har vi fokus på alle dem\, hvis historie vi ikke s
 å ofte har hørt. Museumsassistent Birgitte Kabel vil fortælle om de man
 ge forskellige grupper og enkeltpersoner\, som hun har interviewet i forbi
 ndelse med projektet ”Vores historie” -  hør om de mange forskellige
  foreninger\, arbejdspladser og måder at bo sammen på i Farum Midtpunkt.
 \n\nByrådsmedlem Hasan Yilmaz vil fortælle sin om sin opvækst i Farum M
 idtpunkt som barn i en indvandrerfamilie.\n\n&nbsp\;\n\n&nbsp\;
ATTACH;FMTTYPE=image/jpeg:https://farumlokalhistoriskeforening.dk/wp-conte
 nt/uploads/2024/05/Foto-1_Birgitte-ved-campingvognen-scaled.jpg
LOCATION:Stien\, Bifrostvej \, Farum\, Denmark\, 3520\, Denmark
GEO:55.815925;12.379306
X-APPLE-STRUCTURED-LOCATION;VALUE=URI;X-ADDRESS=Bifrostvej \, Farum\, Denma
 rk\, 3520\, Denmark;X-APPLE-RADIUS=100;X-TITLE=Stien:geo:55.815925,12.3793
 06
END:VEVENT
END:VCALENDAR