BEGIN:VCALENDAR
VERSION:2.0
PRODID:-//wp-events-plugin.com//7.2.3.1//EN
BEGIN:VEVENT
UID:79@farumlokalhistoriskeforening.dk
DTSTART:20241128T180000Z
DTEND:20241128T223000Z
DTSTAMP:20241002T210220Z
URL:https://farumlokalhistoriskeforening.dk/arrangement/aarets-traditionsr
 ige-julefrokost-6/
SUMMARY:Årets traditionsrige julefrokost
DESCRIPTION:Spisning\, amerikansk lotteri\, julequiz\, fortællinger og san
 ge. Brødrene Niels og Lars Rasmussen vil fortælle om deres barndom på S
 olhøjgård i Stavnsholt. Kun for medlemmer af foreningen. Pris: kr. 175 
 kr.\nTilmelding og betaling til Alice senest d.24 november. Husk at skrive
  navn
ATTACH;FMTTYPE=image/jpeg:https://farumlokalhistoriskeforening.dk/wp-conte
 nt/uploads/2019/05/julefest-hotel-vejlefjord-julefrokost.jpg
LOCATION:Gedevasevang\, Hestetangsvej 30A\, Farum\, 3520\, Denmark
GEO:55.80957799999999;12.350584000000026
X-APPLE-STRUCTURED-LOCATION;VALUE=URI;X-ADDRESS=Hestetangsvej 30A\, Farum\,
  3520\, Denmark;X-APPLE-RADIUS=100;X-TITLE=Gedevasevang:geo:55.80957799999
 999,12.350584000000026
END:VEVENT
END:VCALENDAR